BEGIN:VCALENDAR
VERSION:2.0
PRODID:-//League Of Angels - ECPv5.2.1//NONSGML v1.0//EN
CALSCALE:GREGORIAN
METHOD:PUBLISH
X-WR-CALNAME:League Of Angels
X-ORIGINAL-URL:https://theleagueofangels.com
X-WR-CALDESC:Events for League Of Angels
BEGIN:VTIMEZONE
TZID:Europe/London
BEGIN:DAYLIGHT
TZOFFSETFROM:+0000
TZOFFSETTO:+0100
TZNAME:BST
DTSTART:20190331T010000
END:DAYLIGHT
BEGIN:STANDARD
TZOFFSETFROM:+0100
TZOFFSETTO:+0000
TZNAME:GMT
DTSTART:20191027T010000
END:STANDARD
END:VTIMEZONE
BEGIN:VEVENT
DTSTART;VALUE=DATE:20190913
DTEND;VALUE=DATE:20190914
DTSTAMP:20260421T035446
CREATED:20190830T094722Z
LAST-MODIFIED:20190830T095206Z
UID:5365-1568332800-1568419199@theleagueofangels.com
SUMMARY:VIP Partner Event - Groucho Club - golf club trip - Fri 13th Sep 2019
DESCRIPTION:Join the Groucho Golf Club for a day at the Addington Golf Club\, ranked 27 in Golf World’s Top 100 Courses\, England. \nSchedule\n9am – Coffee and Bacon Rolls\n10am – 18 holes\n3pm – Sandwiches and Chips \nThe Addington Golf Club\nDesigned in 1913 by John Frederick Abercromby\, The Addington offers expansive views of the metropolis from hilltop tees with a backdrop provided by the Natwest Tower\, Canary Wharf and the Shard. With no two holes the same\, The Addington ensures golfers will need every shot in the bag to navigate their way round this exceptional course and promises a challenging game. Having undergone a programme of course improvements over the last few years\, The Addington is\, without doubt\, one of the finest courses in South East England. \nTickets £80pp.
URL:https://theleagueofangels.com/event/vip-partner-event-groucho-club-golf-club-trip-fri-13th-sep-2019/
LOCATION:St James’s Square London\, 4 St James's Square\, St. James's\, SW1Y 4JU\, United Kingdom
ATTACH;FMTTYPE=image/png:https://theleagueofangels.com/wp-content/uploads/2019/08/Golf-club-square-13TH-SEP-19.png
END:VEVENT
END:VCALENDAR